BEGIN:VCALENDAR
PRODID:-//AT Content Types//AT Event//EN
VERSION:2.0
METHOD:PUBLISH
BEGIN:VEVENT
DTSTAMP:20260422T033558Z
CREATED:20221006T124218Z
UID:ATEvent-46a965a0e1f6433ca3241329ffa0d850
LAST-MODIFIED:20221006T124544Z
SUMMARY:Première réunion de préparation - Nuit des Cathédrales 2023
DTSTART:20221012T180000Z
DTEND:20221012T180000Z
DESCRIPTION:Nous commençons dès ce mois d'octobre à préparer la pr
 ochaine Nuit des Cathédrales qui aura lieu au mois de mai 2023.\nNous
  avons besoin de vous : vos bonnes idées\, votre bonne volonté\, vot
 re enthousiasme\, ... afin de préparer une édition exceptionnelle.
LOCATION:salle Saint-Pierre  (6 bis place du 8 septembre à Besançon)
CONTACT:amis.cathedrale.besancon@gmail.com\, amis.cathedrale.besancon@gmail.com
CLASS:PUBLIC
END:VEVENT
END:VCALENDAR
