BEGIN:VCALENDAR
PRODID:-//AT Content Types//AT Event//EN
VERSION:2.0
METHOD:PUBLISH
BEGIN:VEVENT
DTSTAMP:20260421T184431Z
CREATED:20230411T110009Z
UID:ATEvent-288bfccc9b8741d2b3e7173363348921
LAST-MODIFIED:20230411T110423Z
SUMMARY:Nuit des CathÃ©drales 2023
DTSTART:20230506T123000Z
DTEND:20230507T143000Z
DESCRIPTION:Pour sa 8e participation Ã  lâ€™Ã©vÃ©nement international 
 Â« La nuit des cathÃ©drales Â»\, lâ€™Ã©glise-mÃ¨re de notre diocÃ¨se f
 Ãªtera deux anniversaires trÃ¨s importants. Dâ€™abord les 875 ans de s
 a consÃ©cration et Ã©galement les 20 ans de lâ€™Ã©piscopat de notre ar
 chevÃªque\, Mgr Jean-Luc Bouilleret. Ã€ occasion exceptionnelle\, prog
 ramme exceptionnel : deux jours pour mettre Ã  lâ€™honneur notre cathÃ
 ©drale les samedi 6 et dimanche 7 mai.
LOCATION:CathÃ©drale Saint-Jean Saint-Etienne de BesanÃ§on
CONTACT:Patrimoine de la cathÃ©drale\, patrimoine.cathedrale@diocese-besancon.fr
CLASS:PUBLIC
END:VEVENT
END:VCALENDAR
