BEGIN:VCALENDAR
PRODID:-//AT Content Types//AT Event//EN
VERSION:2.0
METHOD:PUBLISH
BEGIN:VEVENT
DTSTAMP:20260422T014711Z
CREATED:20211216T080514Z
UID:ATEvent-43281f4993384ba2a3323aa7104c3f3c
LAST-MODIFIED:20221213T102553Z
SUMMARY:Noël - Messe de la Nuit
DTSTART:20221224T213000Z
DTEND:20221224T223000Z
DESCRIPTION:22h - Veillée musicale de Noël par Jean Mislin\, organis
 te\n22h30 - Messe présidée par Mgr Jean-Luc Bouilleret\, archevêque
  de Besançon
LOCATION:Cathédrale Saint-Jean
CONTACT:Cathédrale Saint-Jean\, cathedrale@diocese-besancon.fr
CLASS:PUBLIC
END:VEVENT
END:VCALENDAR
