BEGIN:VCALENDAR
PRODID:-//AT Content Types//AT Event//EN
VERSION:1.0
BEGIN:VEVENT
DTSTART:20221211T140000Z
DTEND:20221211T153000Z
DCREATED:20221209T110512Z
UID:ATEvent-42fae38cb4bc41129295bad6a49ba4e5
SEQUENCE:0
LAST-MODIFIED:20221209T110530Z
SUMMARY:Fête du diocèse
DESCRIPTION:Fête de l’Immaculée Conception de la Vierge Marie\, pa
 tronne principale de notre diocèse.
LOCATION:Cathédrale Saint-Jean de Besançon
PRIORITY:3
TRANSP:0
END:VEVENT
END:VCALENDAR
