BEGIN:VCALENDAR
PRODID:-//AT Content Types//AT Event//EN
VERSION:2.0
METHOD:PUBLISH
BEGIN:VEVENT
DTSTAMP:20260422T180435Z
CREATED:20211216T080553Z
UID:ATEvent-7c1438baff3f4fae88d9ada7f0beafdc
LAST-MODIFIED:20221213T102921Z
SUMMARY:Noël - Messe du Jour
DTSTART:20221225T160000Z
DTEND:20221225T183000Z
DESCRIPTION:17h - Vêpres animées par le recteur de la cathédrale\, 
 M. le chanoine Michel Bruard\n18h15 - Messe célébrée par le doyen d
 u chapitre\, M. le chanoine François Viennet
LOCATION:Cathédrale Saint-Jean
CONTACT:Cathédrale Saint-Jean\, cathedrale@diocese-besancon.fr
CLASS:PUBLIC
END:VEVENT
END:VCALENDAR
