BEGIN:VCALENDAR
PRODID:-//AT Content Types//AT Event//EN
VERSION:1.0
BEGIN:VEVENT
DTSTART:20230219T171500Z
DTEND:20230219T171500Z
DCREATED:20221213T092303Z
UID:ATEvent-88e45ccb4abb4c92b3d97dee5bb33cf6
SEQUENCE:0
LAST-MODIFIED:20221213T092523Z
SUMMARY:Messe animÃ©e par les jeunes
DESCRIPTION:Cette annÃ©e\, la messe animÃ©e par les jeunes aura lieu Ã
   la cathÃ©drale Ã  18h15 tous les 3Ã¨mes dimanches de chaque mois.
LOCATION:CathÃ©drale Saint-Jean
PRIORITY:3
TRANSP:0
END:VEVENT
END:VCALENDAR
