BEGIN:VCALENDAR
PRODID:-//AT Content Types//AT Event//EN
VERSION:2.0
METHOD:PUBLISH
BEGIN:VEVENT
DTSTAMP:20260421T165919Z
CREATED:20210921T082436Z
UID:ATEvent-7c4b89d0c9da498d9798dec21c927126
LAST-MODIFIED:20221213T091824Z
SUMMARY:Messe animÃ©e par les jeunes
DTSTART:20221218T171500Z
DTEND:20221218T181500Z
DESCRIPTION:Cette annÃ©e\, la messe animÃ©e par les jeunes aura lieu Ã
   la cathÃ©drale Ã  18h15 tous les 3Ã¨mes dimanches de chaque mois.
LOCATION:CathÃ©drale Saint-Jean
CONTACT:pjbbesancon@gmail.com
CLASS:PUBLIC
END:VEVENT
END:VCALENDAR
