BEGIN:VCALENDAR
PRODID:-//AT Content Types//AT Event//EN
VERSION:2.0
METHOD:PUBLISH
BEGIN:VEVENT
DTSTAMP:20260421T133537Z
CREATED:20221213T092327Z
UID:ATEvent-11668fe1b5a047adb9333d4e8cb4e450
LAST-MODIFIED:20221213T092917Z
SUMMARY:Messe animÃ©e par les jeunes
DTSTART:20230618T161500Z
DTEND:20230618T171500Z
DESCRIPTION:Cette annÃ©e\, la messe animÃ©e par les jeunes aura lieu Ã
   la cathÃ©drale Ã  18h15 tous les 3Ã¨mes dimanches de chaque mois.
LOCATION:CathÃ©drale Saint-Jean
CONTACT:pjbbesancon@gmail.com
CLASS:PUBLIC
END:VEVENT
END:VCALENDAR
