BEGIN:VCALENDAR
PRODID:-//AT Content Types//AT Event//EN
VERSION:2.0
METHOD:PUBLISH
BEGIN:VEVENT
DTSTAMP:20260420T145422Z
CREATED:20221213T092313Z
UID:ATEvent-34c117fcb766477081db479d49261949
LAST-MODIFIED:20221213T092642Z
SUMMARY:Messe animÃ©e par les jeunes
DTSTART:20230416T161500Z
DTEND:20230416T171500Z
DESCRIPTION:Cette annÃ©e\, la messe animÃ©e par les jeunes aura lieu Ã
   la cathÃ©drale Ã  18h15 tous les 3Ã¨mes dimanches de chaque mois.
LOCATION:CathÃ©drale Saint-Jean
CONTACT:pjbbesancon@gmail.com
CLASS:PUBLIC
END:VEVENT
END:VCALENDAR
