BEGIN:VCALENDAR
PRODID:-//AT Content Types//AT Event//EN
VERSION:1.0
BEGIN:VEVENT
DTSTART:20230319T171500Z
DTEND:20230319T181500Z
DCREATED:20221213T092308Z
UID:ATEvent-1e223b2f953441a8ba5ada03908c41de
SEQUENCE:0
LAST-MODIFIED:20221213T092602Z
SUMMARY:Messe animÃ©e par les jeunes
DESCRIPTION:Cette annÃ©e\, la messe animÃ©e par les jeunes aura lieu Ã
   la cathÃ©drale Ã  18h15 tous les 3Ã¨mes dimanches de chaque mois.
LOCATION:CathÃ©drale Saint-Jean
PRIORITY:3
TRANSP:0
END:VEVENT
END:VCALENDAR
