BEGIN:VCALENDAR
PRODID:-//AT Content Types//AT Event//EN
VERSION:2.0
METHOD:PUBLISH
BEGIN:VEVENT
DTSTAMP:20260422T051536Z
CREATED:20230220T133001Z
UID:ATEvent-ac48b900502b482cac1dc4877cb5b5b3
LAST-MODIFIED:20230220T133006Z
SUMMARY:Conférence de Carême 3
DTSTART:20230326T150000Z
DTEND:20230326T160000Z
DESCRIPTION:" C’est à l’Évêque diocésain qu’est confié le b
 aptême des adultes "\npar Mgr Jean-Luc BOUILLERET\, archevêque de Be
 sançon\n\n(suivie de la messe dominicale à 18h15)
LOCATION:Cathédrale Saint-Jean de Besançon
CLASS:PUBLIC
END:VEVENT
END:VCALENDAR
