BEGIN:VCALENDAR
PRODID:-//AT Content Types//AT Event//EN
VERSION:1.0
BEGIN:VEVENT
DTSTART:20221120T171500Z
DTEND:20221120T184500Z
DCREATED:20221110T104559Z
UID:ATEvent-6e69b96844c540109432097bb0bdb79a
SEQUENCE:0
LAST-MODIFIED:20221110T105051Z
SUMMARY:Célébration de lancement des JMJ
DESCRIPTION:Notre archevêque\, Mgr Jean-Luc Bouilleret\, lancera offi
 ciellement les Journées Mondiales de la Jeunesse 2023 ce dimanche 20 
 novembre à 18h15.
LOCATION:Cathédrale Saint-Jean de Besançon
PRIORITY:3
TRANSP:0
END:VEVENT
END:VCALENDAR
