BEGIN:VCALENDAR
PRODID:-//AT Content Types//AT Event//EN
VERSION:1.0
BEGIN:VEVENT
DTSTART:20211117T123000Z
DTEND:20211117T163000Z
DCREATED:20210906T185752Z
UID:ATEvent-6c4c02bee75e4b78af127341cc1050e0
SEQUENCE:0
LAST-MODIFIED:20211116T092707Z
SUMMARY:Restitution des projets des étudiants de l’École Nationale d’Arts et de Design de Nancy - ANNULE
DESCRIPTION:Débat avec des représentants de la paroisse de Saint Jea
 n-Baptiste et de l'abbé François Boiteux.\nOrganisé dans le cadre d
 e l'exposition : "Rencontre avec l'art sacré contemporain".\n\nAnimat
 eurs : Claude et Paul Maurand.
PRIORITY:3
TRANSP:0
END:VEVENT
END:VCALENDAR
