BEGIN:VCALENDAR
PRODID:-//AT Content Types//AT Event//EN
VERSION:1.0
BEGIN:VEVENT
DTSTART:20211110T163000Z
DTEND:20211110T180000Z
DCREATED:20210906T184419Z
UID:ATEvent-25e4af4f70a3498bbe2835495295e2fe
SEQUENCE:0
LAST-MODIFIED:20210907T130337Z
SUMMARY:Conférence :  « Signes et symboles dans les églises » - Abbé Franck Ruffiot
DESCRIPTION:Organisée dans le cadre de l'exposition : "Rencontre avec
  l'art sacré contemporain".
PRIORITY:3
TRANSP:0
END:VEVENT
END:VCALENDAR
