BEGIN:VCALENDAR
PRODID:-//AT Content Types//AT Event//EN
VERSION:1.0
BEGIN:VEVENT
DTSTART:20220930T220000Z
DTEND:20221031T230000Z
DCREATED:20190614T061054Z
UID:ATEvent-a7417e21a564458296386fd28aa89508
SEQUENCE:0
LAST-MODIFIED:20221008T115719Z
SUMMARY:Mois d'Octobre 2022
PRIORITY:3
TRANSP:0
END:VEVENT
END:VCALENDAR
