BEGIN:VCALENDAR
PRODID:-//AT Content Types//AT Event//EN
VERSION:2.0
METHOD:PUBLISH
BEGIN:VEVENT
DTSTAMP:20260420T133447Z
CREATED:20190614T054950Z
UID:ATEvent-1914cf66b2dc49c99709ae05f65deac3
LAST-MODIFIED:20220908T021302Z
SUMMARY:Mois de Septembre 2022
DTSTART:20220831T220000Z
DTEND:20220930T220000Z
DESCRIPTION:
CLASS:PUBLIC
END:VEVENT
END:VCALENDAR
