BEGIN:VCALENDAR
PRODID:-//AT Content Types//AT Event//EN
VERSION:2.0
METHOD:PUBLISH
BEGIN:VEVENT
DTSTAMP:20260422T022916Z
CREATED:20260218T180857Z
UID:ATEvent-fb887b44cef540798185667ad1d018cb
LAST-MODIFIED:20260218T181057Z
SUMMARY:Sur les pas de Saint-François de Sales à ANNECY avec RCF
DTSTART:20260630T040500Z
DTEND:20260630T200500Z
LOCATION:ANNECY
CLASS:PUBLIC
END:VEVENT
END:VCALENDAR
