BEGIN:VCALENDAR
PRODID:-//AT Content Types//AT Event//EN
VERSION:1.0
BEGIN:VEVENT
DTSTART:20260525T065000Z
DTEND:20260525T165000Z
DCREATED:20260218T175906Z
UID:ATEvent-0fac2343a58d4a83a73c393391b371b2
SEQUENCE:0
LAST-MODIFIED:20260218T181624Z
SUMMARY:PELERINAGE A FAVERNEY
DESCRIPTION:MIRACLE EUCHARISTIQUE de la FRANCHE-COMTE
LOCATION:FAVERNEY
PRIORITY:3
TRANSP:0
END:VEVENT
END:VCALENDAR
