BEGIN:VCALENDAR
PRODID:-//AT Content Types//AT Event//EN
VERSION:1.0
BEGIN:VEVENT
DTSTART:20260413T050000Z
DTEND:20260420T160000Z
DCREATED:20260107T173541Z
UID:ATEvent-8c3251f1dbf84bb1bf4a233d78a9114e
SEQUENCE:0
LAST-MODIFIED:20260215T170605Z
SUMMARY:PELERINAGE EN ARMENIE
DESCRIPTION:Lors d’un itinéraire original vous découvrirez son pat
 rimoine d’architecture sacrée et rencontrerez une population très 
 accueillante.
LOCATION:ARMENIE
PRIORITY:3
TRANSP:0
END:VEVENT
END:VCALENDAR
