BEGIN:VCALENDAR
PRODID:-//AT Content Types//AT Event//EN
VERSION:2.0
METHOD:PUBLISH
BEGIN:VEVENT
DTSTAMP:20260425T115500Z
CREATED:20260421T123544Z
UID:ATEvent-2ba4b2449ddc46f484e8d2387befa0b9
LAST-MODIFIED:20260421T124318Z
SUMMARY:Bureau de la catéchèse du doyenné Les Premiers Plateaux  n°7
DTSTART:20260429T183000Z
DTEND:20260429T203000Z
LOCATION:Tarcenay
CLASS:PUBLIC
END:VEVENT
END:VCALENDAR
