BEGIN:VCALENDAR
PRODID:-//AT Content Types//AT Event//EN
VERSION:1.0
BEGIN:VEVENT
DTSTART:20200409T200000Z
DTEND:20200410T050000Z
DCREATED:20200217T110338Z
UID:ATEvent-81d7feb68f1341748b80be0881c84ac3
SEQUENCE:0
LAST-MODIFIED:20200407T122716Z
SUMMARY:Nuit d'adoration eucharistique -annulé
LOCATION:chapelle de l'Escale Jeunes
PRIORITY:3
TRANSP:0
END:VEVENT
END:VCALENDAR
