BEGIN:VCALENDAR
PRODID:-//AT Content Types//AT Event//EN
VERSION:2.0
METHOD:PUBLISH
BEGIN:VEVENT
DTSTAMP:20260420T195837Z
CREATED:20200217T085726Z
UID:ATEvent-9cdc7697b3e041cd8c0977baaa995101
LAST-MODIFIED:20200217T085805Z
SUMMARY:Messe présidée par Mgr Bouilleret
DTSTART:20200225T181500Z
DTEND:20200225T210000Z
LOCATION:ESCALE JEUNES
URL:https://www.diocese-besancon.fr/agir-participer/tu-es-jeune-tourne-vers-l-avenir/escale-jeunes/actualites/actu1
CLASS:PUBLIC
END:VEVENT
END:VCALENDAR
