BEGIN:VCALENDAR
PRODID:-//AT Content Types//AT Event//EN
VERSION:1.0
BEGIN:VEVENT
DTSTART:20200403T180000Z
DTEND:20200403T180000Z
DCREATED:20200217T100458Z
UID:ATEvent-04d9e5383c4747478b44b05595130d90
SEQUENCE:0
LAST-MODIFIED:20200320T075623Z
SUMMARY:Formation ThéoFIL - Vatican II ANNULE
LOCATION:ESCALE JEUNES
PRIORITY:3
TRANSP:0
END:VEVENT
END:VCALENDAR
