BEGIN:VCALENDAR
PRODID:-//AT Content Types//AT Event//EN
VERSION:1.0
BEGIN:VEVENT
DTSTART:20200401T170000Z
DTEND:20200401T190000Z
DCREATED:20200217T122800Z
UID:ATEvent-141ee54c9a734c3b841a36d95a042169
SEQUENCE:0
LAST-MODIFIED:20200217T124111Z
SUMMARY:Retraite dans la vie
DESCRIPTION:Un carême pour approfondir la parole de Dieu
LOCATION:ESCALE JEUNES
PRIORITY:3
TRANSP:0
END:VEVENT
END:VCALENDAR
