BEGIN:VCALENDAR
PRODID:-//AT Content Types//AT Event//EN
VERSION:2.0
METHOD:PUBLISH
BEGIN:VEVENT
DTSTAMP:20260421T153507Z
CREATED:20200217T122749Z
UID:ATEvent-a690e7087e7842d6971d80e5c3230952
LAST-MODIFIED:20200217T123922Z
SUMMARY:Retraite dans la vie
DTSTART:20200325T180000Z
DTEND:20200325T200000Z
DESCRIPTION:Un carême pour approfondir la parole de Dieu
LOCATION:ESCALE JEUNES
URL:https://www.diocese-besancon.fr/agir-participer/tu-es-jeune-tourne-vers-l-avenir/escale-jeunes/actualites/actu4
CLASS:PUBLIC
END:VEVENT
END:VCALENDAR
