BEGIN:VCALENDAR
PRODID:-//AT Content Types//AT Event//EN
VERSION:2.0
METHOD:PUBLISH
BEGIN:VEVENT
DTSTAMP:20260421T194946Z
CREATED:20200217T100607Z
UID:ATEvent-2132bf71bf00455aa2e715c0ef20f66c
LAST-MODIFIED:20200320T075624Z
SUMMARY:Formation ThéoFIL - Vatican II -ANNULE
DTSTART:20200605T180000Z
DTEND:20200605T180000Z
LOCATION:ESCALE JEUNES
URL:https://www.diocese-besancon.fr/agir-participer/tu-es-jeune-tourne-vers-l-avenir/escale-jeunes/zoom-sur/theofil-vatican-ii
CLASS:PUBLIC
END:VEVENT
END:VCALENDAR
