BEGIN:VCALENDAR
PRODID:-//AT Content Types//AT Event//EN
VERSION:2.0
METHOD:PUBLISH
BEGIN:VEVENT
DTSTAMP:20260422T001958Z
CREATED:20200217T122736Z
UID:ATEvent-dffb4b3540274f6f9f9caf9a81261f80
LAST-MODIFIED:20200217T123704Z
SUMMARY:Retraite dans la vie
DTSTART:20200318T180000Z
DTEND:20200318T200000Z
DESCRIPTION:Un carême pour approfondir la parole de Dieu
LOCATION:ESCALE JEUNES
URL:https://www.diocese-besancon.fr/agir-participer/tu-es-jeune-tourne-vers-l-avenir/escale-jeunes/actualites/actu4
CLASS:PUBLIC
END:VEVENT
END:VCALENDAR
