BEGIN:VCALENDAR
PRODID:-//AT Content Types//AT Event//EN
VERSION:2.0
METHOD:PUBLISH
BEGIN:VEVENT
DTSTAMP:20260423T103727Z
CREATED:20200217T100535Z
UID:ATEvent-73b3ef43df6a40c0a932d39269565d01
LAST-MODIFIED:20200320T075624Z
SUMMARY:Formation ThéoFIL - Vatican II -ANNULE
DTSTART:20200515T180000Z
DTEND:20200515T180000Z
LOCATION:ESCALE JEUNES
URL:https://www.diocese-besancon.fr/agir-participer/tu-es-jeune-tourne-vers-l-avenir/escale-jeunes/zoom-sur/theofil-vatican-ii
CLASS:PUBLIC
END:VEVENT
END:VCALENDAR
