BEGIN:VCALENDAR
PRODID:-//AT Content Types//AT Event//EN
VERSION:2.0
METHOD:PUBLISH
BEGIN:VEVENT
DTSTAMP:20260420T203114Z
CREATED:20200217T100515Z
UID:ATEvent-2ad7805847034f94a6e88609d8e56331
LAST-MODIFIED:20200320T075624Z
SUMMARY:Formation ThéoFIL - Vatican II- ANNULE
DTSTART:20200417T180000Z
DTEND:20200417T180000Z
LOCATION:ESCALE JEUNES
URL:https://www.diocese-besancon.fr/agir-participer/tu-es-jeune-tourne-vers-l-avenir/escale-jeunes/zoom-sur/theofil-vatican-ii
CLASS:PUBLIC
END:VEVENT
END:VCALENDAR
