BEGIN:VCALENDAR
PRODID:-//AT Content Types//AT Event//EN
VERSION:2.0
METHOD:PUBLISH
BEGIN:VEVENT
DTSTAMP:20260421T222626Z
CREATED:20200217T105142Z
UID:ATEvent-3ecaced753ce4c39b8058a6369044e8a
LAST-MODIFIED:20200217T105633Z
SUMMARY:Célébration du pardon
DTSTART:20200310T181500Z
DTEND:20200310T200000Z
DESCRIPTION:Possibilité de recevoir le sacrement du pardon ou de parl
 er avec un prêtre.
LOCATION:ESCALE JEUNES
URL:https://www.diocese-besancon.fr/agir-participer/tu-es-jeune-tourne-vers-l-avenir/escale-jeunes/menu-4/demander-le-sacrement-du-pardon
CLASS:PUBLIC
END:VEVENT
END:VCALENDAR
