BEGIN:VCALENDAR
PRODID:-//AT Content Types//AT Event//EN
VERSION:2.0
METHOD:PUBLISH
BEGIN:VEVENT
DTSTAMP:20260420T012152Z
CREATED:20260305T151928Z
UID:ATEvent-ecd2032e39bd44fc9f804d30f076b8fa
LAST-MODIFIED:20260305T152023Z
SUMMARY:Week-end "Louange" pour les 18-35 ans à Colombier
DTSTART:20260529T160000Z
DTEND:20260531T120000Z
DESCRIPTION:Animé par le frère Rémi Schappacher\, op.
LOCATION:Communauté "La résurrection de Lazare de Béthanie" - 16 rue du Moulin - Colombier (70)
CONTACT:Communauté "La résurrection de Lazare de Béthanie"\, 06.61.40.75.01\, lazaredebethanie@orange.fr
CLASS:PUBLIC
END:VEVENT
END:VCALENDAR
