BEGIN:VCALENDAR
PRODID:-//AT Content Types//AT Event//EN
VERSION:1.0
BEGIN:VEVENT
DTSTART:20260425T150000Z
DTEND:20260425T150000Z
DCREATED:20260305T151341Z
UID:ATEvent-66c9fa449606496cae8b48403d1abf46
SEQUENCE:0
LAST-MODIFIED:20260305T151408Z
SUMMARY:Réflexion spirituelle à la lumière de Pâques par le Père Axel Isabey à Roulans
LOCATION:Salle St Michel - Roulans
PRIORITY:3
TRANSP:0
END:VEVENT
END:VCALENDAR
