BEGIN:VCALENDAR
PRODID:-//AT Content Types//AT Event//EN
VERSION:1.0
BEGIN:VEVENT
DTSTART:20260509T120000Z
DTEND:20260509T120000Z
DCREATED:20260416T093809Z
UID:ATEvent-f52d0d077ccc4440a1c27639ebc45f01
SEQUENCE:0
LAST-MODIFIED:20260416T093847Z
SUMMARY:Nuit des Cathédrales à Besançon
DESCRIPTION:11ème édition.
LOCATION:Cathédrale Saint-Jean Saint-Etienne - Besançon
PRIORITY:3
TRANSP:0
END:VEVENT
END:VCALENDAR
