BEGIN:VCALENDAR
PRODID:-//AT Content Types//AT Event//EN
VERSION:1.0
BEGIN:VEVENT
DTSTART:20260508T134500Z
DTEND:20260508T134500Z
DCREATED:20260304T084623Z
UID:ATEvent-f32130d58c644dbc91ac9448f038c421
SEQUENCE:0
LAST-MODIFIED:20260304T084658Z
SUMMARY:Jeudi 8 mai : 800 ans d'histoire hospitalière sous nos yeux !
DESCRIPTION:La paroisse  Saint-Pierre-Fourier - Plaine de Gray organis
 e en concertation avec la commune\, une découverte patrimoniale du ha
 meau de Sainte Cécile à Valay.
LOCATION:Valay (70)
PRIORITY:3
TRANSP:0
END:VEVENT
END:VCALENDAR
