BEGIN:VCALENDAR
PRODID:-//AT Content Types//AT Event//EN
VERSION:2.0
METHOD:PUBLISH
BEGIN:VEVENT
DTSTAMP:20260421T234910Z
CREATED:20260421T124039Z
UID:ATEvent-41bbfa1ce8a848c2bd7a861cd8c65ac9
LAST-MODIFIED:20260421T124349Z
SUMMARY:Deuxième Dimanche Ensemble à Raddon
DTSTART:20260426T070000Z
DTEND:20260426T100000Z
LOCATION:Raddon
URL:https://www.diocese-besancon.fr/diocese/doyennes-et-paroisses/d13-luxeuil/actualites/dimanche-ensemble
CLASS:PUBLIC
END:VEVENT
END:VCALENDAR
