BEGIN:VCALENDAR
PRODID:-//AT Content Types//AT Event//EN
VERSION:2.0
METHOD:PUBLISH
BEGIN:VEVENT
DTSTAMP:20260419T233657Z
CREATED:20260303T130807Z
UID:ATEvent-0bf16fa2c9dc44e295f4bf9615c48004
LAST-MODIFIED:20260303T132106Z
SUMMARY:Concert dans le cadre du bicentenaire de la mort de sainte Jeanne-Antide
DTSTART:20260618T180000Z
DTEND:20260618T200000Z
DESCRIPTION:La boutique Jeanne-Antide rend hommage à sainte Jeanne-An
 tide Thouret\, avec la collaboration de La Débandade : Chœur d’hom
 mes de Franois sous la direction de Christian Bourgon.
LOCATION:Chapelle des sœurs de la Charité\, 2 rue des martelots\, Besançon
CLASS:PUBLIC
END:VEVENT
END:VCALENDAR
