BEGIN:VCALENDAR
PRODID:-//AT Content Types//AT Event//EN
VERSION:2.0
METHOD:PUBLISH
BEGIN:VEVENT
DTSTAMP:20260420T012310Z
CREATED:20260303T130803Z
UID:ATEvent-537e631287814b34b8d3fa93bc60a2a7
LAST-MODIFIED:20260303T131217Z
SUMMARY:Via Musica bicentenaire mort sainte Jeanne-Antide
DTSTART:20260603T140000Z
DTEND:20260603T160000Z
DESCRIPTION:Festival La Via Musica : « Ce festival tisse un lien sens
 ible entre Naples et Besançon…Au cœur de ce dialogue se trouve la 
 fondatrice des sœurs de la charité… »
LOCATION:Chapelle des sœurs de la Charité\, 2 rue des martelots\, Besançon
CONTACT:Festival Via Musica
URL:https://festivallaviamusica.com/
CLASS:PUBLIC
END:VEVENT
END:VCALENDAR
