BEGIN:VCALENDAR
PRODID:-//AT Content Types//AT Event//EN
VERSION:2.0
METHOD:PUBLISH
BEGIN:VEVENT
DTSTAMP:20260420T234043Z
CREATED:20260223T153930Z
UID:ATEvent-7ecff393a7dd4c0da2c73c1939fe71eb
LAST-MODIFIED:20260223T155612Z
SUMMARY:Conférence "Saint Joseph" par le frère François Comparat à Besançon
DTSTART:20260319T170000Z
DTEND:20260319T183000Z
DESCRIPTION:"Saint Joseph\, la confiance\, l'humilité et la misérico
 rde au quotidien".
LOCATION:Centre diocésain - Salle B - 20 rue Mégevand - Besançon
CONTACT:AGHC\, Association Grammont Haute Comté\, 03 81 25 17 17\, mediationculturelle.aghc@gmail.com
URL:https://culturecentredio.fr/2024/01/22/conference-saint-joseph-jeu-19-mars-18h/
CLASS:PUBLIC
END:VEVENT
END:VCALENDAR
