BEGIN:VCALENDAR
PRODID:-//AT Content Types//AT Event//EN
VERSION:2.0
METHOD:PUBLISH
BEGIN:VEVENT
DTSTAMP:20260421T105334Z
CREATED:20250805T094449Z
UID:ATEvent-5d582fc9977a4cb797bbe00c3a12e978
LAST-MODIFIED:20250805T094841Z
SUMMARY:Journée "En marche pour la création !" à Vellefaux
DTSTART:20250906T080000Z
DTEND:20250906T153000Z
DESCRIPTION:
LOCATION:Chapelle Sainte-Anne - Vellefaux
CLASS:PUBLIC
END:VEVENT
END:VCALENDAR
